BEGIN:VCALENDAR
VERSION:2.0
PRODID:-//OneGov//onegov.event//
BEGIN:VEVENT
SUMMARY:Gilbert & Oleg zu Gast bei der Kulturgruppe Appenzell
DTSTART:20240203T180000Z
DTEND:20240203T213000Z
DTSTAMP:20240202T105556Z
UID:gilbert-oleg-zu-gast-bei-der-kulturgruppe-appenzell-2024-02-03@onegov.
 event
CATEGORIES:Culture,Theater
DESCRIPTION:Gilbert & Oleg sind zu Gast bei der Kulturgruppe Appenzell\, m
 it dem Programm «Robin Hood - The great resist» (Gauklerhaftes Theaterka
 barett) in der Kunsthalle Appenzell. \nwww.gilbert-oleg.ch\n\nAktuelle Aus
 stellung in der Kunsthalle geöffnet bei freiem Eintritt ab 19.00 Uhr\nBar
  mit Getränken und hausgemachten Snacks geöffnet ab 19.00 Uhr\n\nVorstel
 lungsbeginn um 20.00 Uhr\n\nReservationen per Mail an info@kultur-appenzel
 l.ch 
LAST-MODIFIED:20240202T105556Z
LOCATION:Kunsthalle Appenzell\, Ziegeleistrasse 14\, 9050 Appenzell
URL:https://ogc.ai.ch/event/gilbert-oleg-zu-gast-bei-der-kulturgruppe-appe
 nzell-2024-02-03
END:VEVENT
END:VCALENDAR
