BEGIN:VCALENDAR
VERSION:2.0
PRODID:-//OneGov//onegov.event//
BEGIN:VEVENT
SUMMARY:Heckenpflanzung mit Alpsteinblick
DTSTART:20250405T064500Z
DTEND:20250405T133000Z
DTSTAMP:20250313T145020Z
UID:heckenpflanzung-mit-alpsteinblick-2025-04-05@onegov.event
CATEGORIES:Misc,Talk,Health,Meetup,Nature,Sports,Culture,Elderly,Tourism,E
 ducation
DESCRIPTION:An diesem Natureinsatz pflanzen wir eine neue\, ca. 80 Meter l
 ange Biodiversitätshecke auf dem Betrieb von Hans Ruedi Rohner in Appenze
 ll. Hecken sind für die Natur enorm wichtig: Vielen Tieren dienen sie als
  Brut- und Rückzugsort\, Wanderroute oder Nahrungsquelle. Der Wald ist an
  diesem Ort nah\, doch die Verbindungsrouten fehlen auf den Weidewiesen fa
 st gänzlich. Gemeinsam schliessen wir an diesem Tag eine dieser Lücken u
 nd geniessen einen lehrreichen und schönen Einsatztag im hügeligen Appen
 zellerland.\n\nHelfen Sie mit und lernen auf anschauliche\, verständliche
  Weise wie ökologische Hecken gepflanzt werden. Ein lockerer Austausch mi
 t Gleichgesinnten und eine kostenlose Verpflegung machen den Anlass zu ein
 em bleibenden Erlebnis.\n\nDer WWF Ost und der Landwirt freuen sich über 
 Anmeldungen unter: https://events.wwf.ch/natureinsaetze/Natur_verbindet_He
 ckenpflanzung_in_Appenzell_mit_Alpsteinblick_250405\n
GEO:47.31052;9.421485
LAST-MODIFIED:20250313T145020Z
LOCATION:Klosterspitzstrasse 4\, 9050 Appenzell
URL:https://ogc.ai.ch/event/heckenpflanzung-mit-alpsteinblick-2025-04-05
END:VEVENT
END:VCALENDAR
